BEGIN:VCALENDAR
VERSION:2.0
PRODID:PHP
METHOD:PUBLISH
X-WR-CALNAME:My Music Office
X-WR-TIMEZONE:America/New_York
BEGIN:VEVENT
DTSTART:20260511T190000
DTEND:20260511T200000
DTSTAMP:20260418T210002
LOCATION:Band Room
DESCRIPTION:<p>Today we will be voting on new Booster Officers. Please come ready to vote.</p>
SUMMARY:Band Booster Meeting
UID:20260418205316-1@mymusicoffice.com
SEQUENCE:0
END:VEVENT
BEGIN:VEVENT
DTSTART:20260719T080000
DTEND:20260724T200000
DTSTAMP:20260418T210002
LOCATION:Band Room
DESCRIPTION:<p>Welcome to band camp 2025! &nbsp\;We look forward to spending the week with you as you learn your new marching band show for the 2025 season.</p>
SUMMARY:Band Camp
UID:20260418210002-2@mymusicoffice.com
SEQUENCE:0
END:VEVENT
END:VCALENDAR
